BEGIN:VCALENDAR
VERSION:2.0
PRODID:-//eventon.com NONSGML v1.0//EN
CALSCALE:GREGORIAN
METHOD:PUBLISH
BEGIN:VEVENT
UID:69e796e18ef3d
DTSTAMP:20260421T152521Z
DTSTART:20260530
DTEND:20260531
LOCATION:La grotte - coté de l'église St Nicolas rue de l'église\,  51190\,  LE MESNIL SUR OGER\,  France
SUMMARY:Bruderschaft der Ritter des Bogens - Blumenkapitel
DESCRIPTION:Am Samstag\,  den 30. Mai\,  veranstalten wir einen  „Blanc 
 de Blancs“  -Abend in der Grotte du Mesnil-sur-Oger. Wir laden Sie zu e
 inem Picknick mit Champagner der Marke Blanc de Blancs aus Mesnil-sur-Oger 
 ein. Sie können den Champagner vorbestellen – entweder über den untenst
 ehenden Link oder per E-Mail an stvincentmesnil@gmail.com .    Ein Orch
 ester[..]\nhttps://weinpilot.com/events/bruderschaft-der-ritter-des-bogens-
 blumenkapitel/
URL:https://weinpilot.com/events/bruderschaft-der-ritter-des-bogens-blumenkapitel/
END:VEVENT
END:VCALENDAR