BEGIN:VCALENDAR
VERSION:2.0
PRODID:-//eventon.com NONSGML v1.0//EN
CALSCALE:GREGORIAN
METHOD:PUBLISH
BEGIN:VEVENT
UID:69e761333cc5c
DTSTAMP:20260421T113619Z
DTSTART:20260509T163000Z
DTEND:20260509T193000Z
LOCATION:Villa Lieberich Haardter Straße 13 67433 Neustadt an der Weinstraße
SUMMARY:Die VDP.REIFEPRÜFUNG!
DESCRIPTION:EXKLUSIVES TASTING VOR EINMALIGER KULISSE: DIE VDP.REIFEPRFÜUN
 G Unser neues Event für Weinbegeisterte: Die VDP.REIFEPRÜFUNG! &nbsp; Her
 kunftsgeprägte Weine zeichnen sich durch Charakter und Vielschichtigkeit a
 us - und das umso mehr\,  wenn sie einige Jahre in der Flasche reifen dürf
 en. Wir bieten Ihnen die seltene Gelegenheit\,  genau diese Entwicklung nac
 hzuvollziehen: Bei unserer[..]\nhttps://weinpilot.com/events/die-vdp-reifep
 ruefung/
URL:https://weinpilot.com/events/die-vdp-reifepruefung/
END:VEVENT
END:VCALENDAR