BEGIN:VCALENDAR
VERSION:2.0
PRODID:-//eventon.com NONSGML v1.0//EN
CALSCALE:GREGORIAN
METHOD:PUBLISH
BEGIN:VEVENT
UID:69e761334b377
DTSTAMP:20260421T113619Z
DTSTART:20260423T140000Z
DTEND:20260423T200000Z
LOCATION:Alte Kongresshalle Am Bavariapark 14\,  München 80339
SUMMARY:Weinviertel DAC Jahrgangspräsentation
DESCRIPTION:Das Weinviertel kommt nach München und hat das komplette Jahrg
 angs-Update im Gepäck. Über 200 Weine von mehr als 40 Weinviertler Winzer
 Innen an einem Nachmittag in der Alten Kongresshalle. Vom klassischen Weinv
 iertel DAC Grüner Veltliner bis zu Weinviertel DAC Reserven und Großen Re
 serven\,  Bubbles und Rotweinen: Hier verkostest du effizient\,  vergleiche
 nd[..]\nhttps://weinpilot.com/events/weinviertel-dac-jahrgangspraesentation
 /
URL:https://weinpilot.com/events/weinviertel-dac-jahrgangspraesentation/
END:VEVENT
END:VCALENDAR