BEGIN:VCALENDAR
VERSION:2.0
PRODID:-//eventon.com NONSGML v1.0//EN
CALSCALE:GREGORIAN
METHOD:PUBLISH
BEGIN:VEVENT
UID:69e79084589cf
DTSTAMP:20260421T145812Z
DTSTART:20260425T130000Z
DTEND:20260425T180000Z
LOCATION:
SUMMARY:VINVIN â€“ Die Fachmesse fÃ¼r Herkunftsweine
DESCRIPTION:Gemeinsam besser:Deutschlands Spitzenlagen und Handschriften â€
 žGemeinsam besserâ€œ bedeutet mehr als nur Kooperation. Es steht fÃ¼r die Ã
 œberzeugung\,  dass Herkunft dann glaubwÃ¼rdig wird\,  wenn sie gemeinsam g
 etragen\,  diskutiert und geschÃ¤rft wird. Die VINVIN bringt bewusst unters
 chiedliche Regionen\,  Betriebe und Perspektiven zusammen und schafft Raum 
 fÃ¼r Vergleich\,  Austausch und gegenseitige Inspiration. Mit[..]\nhttps://
 weinpilot.com/events/vinvin-die-fachmesse-fuer-herkunftsweine/
URL:https://weinpilot.com/events/vinvin-die-fachmesse-fuer-herkunftsweine/
END:VEVENT
END:VCALENDAR