BEGIN:VCALENDAR
VERSION:2.0
PRODID:-//eventon.com NONSGML v1.0//EN
CALSCALE:GREGORIAN
METHOD:PUBLISH
BEGIN:VEVENT
UID:69e7612e83a48
DTSTAMP:20260421T113614Z
DTSTART:20260516
DTEND:20260517
LOCATION:Hofburg Heldenplatz\,  1010 Wien\,  Wien
SUMMARY:VieVinum 2026
DESCRIPTION:Internationales Weinfestival Wien\,  auch bekannt als VieVinum 
 2026. Weinbegeisterte aus aller Welt treffen sich von 16. bis 18. Mai 2026 
 bei der Weinmesse VieVinum in der Wiener Hofburg. Weniger anzeigen Die VieV
 inum ist mit rund 550 Aussteller:innen Österreichs größtes Wein-Event - 
 sowohl für die Branche als auch für private Weinliebhaber:innen.[..]\nhtt
 ps://weinpilot.com/events/vievinum-2026/
URL:https://weinpilot.com/events/vievinum-2026/
END:VEVENT
END:VCALENDAR