BEGIN:VCALENDAR
VERSION:2.0
PRODID:-//eventon.com NONSGML v1.0//EN
CALSCALE:GREGORIAN
METHOD:PUBLISH
BEGIN:VEVENT
UID:69e7615599dfb
DTSTAMP:20260421T113653Z
DTSTART:20260515
DTEND:20260516
LOCATION:Wine to Asia\,  Shenzhen Convention &amp; Exhibition Center MQX9 VV Bao’an\,  Shenzhen\,  Guangdong\,  China\,  Shenzhen\,  Guangdong\,  China
SUMMARY:Come meet the growers and makers
DESCRIPTION:Come meet the growers and makers RAW WINE is a celebration of s
 ome of the best wine talent in the world. RAW WINE is one of the most excit
 ing collections of fine\,  natural\,  organic and biodynamic wine artisans 
 ever to come together in Shenzhen. Their wines are pure\,  kind to[..]\nhtt
 ps://weinpilot.com/events/come-meet-the-growers-and-makers-2/
URL:https://weinpilot.com/events/come-meet-the-growers-and-makers-2/
END:VEVENT
END:VCALENDAR