BEGIN:VCALENDAR
VERSION:2.0
PRODID:-//eventon.com NONSGML v1.0//EN
CALSCALE:GREGORIAN
METHOD:PUBLISH
BEGIN:VEVENT
UID:69e792155f754
DTSTAMP:20260421T150453Z
DTSTART:20260510
DTEND:20260511
LOCATION:TRC - Tokyo Ryutsu Center - Hall "F" 6-1-1 Heiwajima\,  Ota-ku\,  Tokyo 143-0006\,  Tokyo\,  Tokyo 143-0006\,  Japan
SUMMARY:Come meet the growers and makers
DESCRIPTION:Come meet the growers and makers RAW WINE is a two-day celebrat
 ion of some of the best wine talent in the world. The fair presents one of 
 the most exciting collections of fine\,  natural\,  low intervention organi
 c and biodynamic wine and other drinks from around the world\,  all under o
 ne[..]\nhttps://weinpilot.com/events/come-meet-the-growers-and-makers-3/
URL:https://weinpilot.com/events/come-meet-the-growers-and-makers-3/
END:VEVENT
END:VCALENDAR